BEGIN:VCALENDAR
VERSION:2.0
PRODID:-//All things scouting in Brentwood, Essex, UK - ECPv6.6.4.2//NONSGML v1.0//EN
CALSCALE:GREGORIAN
METHOD:PUBLISH
X-WR-CALNAME:All things scouting in Brentwood, Essex, UK
X-ORIGINAL-URL:https://brentwoodscouts.org.uk
X-WR-CALDESC:Events for All things scouting in Brentwood, Essex, UK
REFRESH-INTERVAL;VALUE=DURATION:PT1H
X-Robots-Tag:noindex
X-PUBLISHED-TTL:PT1H
BEGIN:VTIMEZONE
TZID:UTC
BEGIN:STANDARD
TZOFFSETFROM:+0000
TZOFFSETTO:+0000
TZNAME:UTC
DTSTART:20240101T000000
END:STANDARD
END:VTIMEZONE
BEGIN:VEVENT
DTSTART;TZID=UTC:20240328T193000
DTEND;TZID=UTC:20240328T210000
DTSTAMP:20260422T233640
CREATED:20240326T093729Z
LAST-MODIFIED:20240326T093729Z
UID:4127-1711654200-1711659600@brentwoodscouts.org.uk
SUMMARY:Scouts at Hutton (All Saints)
DESCRIPTION:
URL:https://brentwoodscouts.org.uk/event/scouts-at-hutton-all-saints/
LOCATION:Hutton (All Saints)\, Hutton (All Saints) H.Q.\, Wash Road\, Essex\, CM13 1DJ\, United Kingdom
CATEGORIES:Hutton (All Saints),Scouts
END:VEVENT
BEGIN:VEVENT
DTSTART;TZID=UTC:20240328T193000
DTEND;TZID=UTC:20240328T213000
DTSTAMP:20260422T233640
CREATED:20240325T154357Z
LAST-MODIFIED:20240325T183857Z
UID:4074-1711654200-1711661400@brentwoodscouts.org.uk
SUMMARY:Scouts at 3rd Brentwood
DESCRIPTION:
URL:https://brentwoodscouts.org.uk/event/scouts-at-3rd-brentwood/
LOCATION:3rd Brentwood Scout Group\, CM14 5AE\, United Kingdom
CATEGORIES:3rd Brentwood,Scouts
END:VEVENT
END:VCALENDAR